BEGIN:VCALENDAR
VERSION:2.0
PRODID:-//ChamberMaster//Event Calendar 2.0//EN
METHOD:PUBLISH
X-PUBLISHED-TTL:P3D
REFRESH-INTERVAL:P3D
CALSCALE:GREGORIAN
BEGIN:VEVENT
DTSTART:20240809T000000Z
DTEND:20240809T020000Z
X-MICROSOFT-CDO-ALLDAYEVENT:FALSE
SUMMARY:Free Movies on the Beach: JAWS
DESCRIPTION:The featured movie will begin at dusk next to Cape May Convention Hall at Gurney Street Beach. In the event of inclement weather\, the cancellation will be announced on Cape May City's Facebook page. All are welcome and encouraged to bring your favorite beach chairs and blankets.
X-ALT-DESC;FMTTYPE=text/html:The featured movie will begin at dusk next to Cape May Convention Hall at Gurney Street Beach. In the event of inclement weather\, the cancellation will be announced on Cape May City&rsquo\;s Facebook page. All are welcome and encouraged to bring your favorite beach chairs and blankets.
LOCATION:Gurney Street Beach Cape May NJ
UID:e.1667.191125
SEQUENCE:3
DTSTAMP:20260426T021858Z
URL:https://visitor.capemaycountychamber.com/events/details/free-movies-on-the-beach-jaws-191125
END:VEVENT

END:VCALENDAR
