BEGIN:VCALENDAR
VERSION:2.0
PRODID:-//ChamberMaster//Event Calendar 2.0//EN
METHOD:PUBLISH
X-PUBLISHED-TTL:P3D
REFRESH-INTERVAL:P3D
CALSCALE:GREGORIAN
BEGIN:VEVENT
DTSTART:20241203T220000Z
DTEND:20241204T000000Z
X-MICROSOFT-CDO-ALLDAYEVENT:FALSE
SUMMARY:2024 Mingle Bells Networking Mixer
DESCRIPTION:Join us on Tuesday\, December 3 from 5-7pm at The Station House for this festive evening of networking with Greater Wildwood Chamber of Commerce! Includes complimentary hors d'oeuvres\, a cash bar and fun\, but don't forget your business cards!\n\n\n\nWe will be accepting toy donations for The Lynch That Stole Christmas From The Grynch Toy Drive.
X-ALT-DESC;FMTTYPE=text/html:<p><span style="font-size:16px\;"><span style="color:#008000\;"><strong><span style="font-family: arial\;"><span style="text-align: center\; line-height: 20.8px\;">Join us on Tuesday\, December 3 from 5-7pm at The Station House for t</span></span><span style="text-align: center\; font-family: arial\;">his festive evening of networking with Greater Wildwood Chamber of Commerce! Includes complimentary hors d&rsquo\;oeuvres\, a cash bar&nbsp\;and fun\, but don&rsquo\;t forget your business cards!<br />\n<br />\nWe will be accepting toy donations for The Lynch That Stole Christmas From The Grynch Toy Drive.</span></strong></span></span><br />\n&nbsp\;</p>\n
LOCATION:The Station House at Mudhen Brewery 127 Rio Grande Avenue Wildwood\, NJ 08260
UID:e.1667.191685
SEQUENCE:3
DTSTAMP:20260425T192831Z
URL:https://visitor.capemaycountychamber.com/events/details/2024-mingle-bells-networking-mixer-191685
END:VEVENT

END:VCALENDAR
