BEGIN:VCALENDAR
VERSION:2.0
PRODID:-//ChamberMaster//Event Calendar 2.0//EN
METHOD:PUBLISH
X-PUBLISHED-TTL:P3D
REFRESH-INTERVAL:P3D
CALSCALE:GREGORIAN
BEGIN:VEVENT
DTSTART:20180814T120000Z
DTEND:20180814T163000Z
X-MICROSOFT-CDO-ALLDAYEVENT:FALSE
SUMMARY:Downtown Wildwood Farmer's Market
DESCRIPTION:Fresh produce and much more
X-ALT-DESC;FMTTYPE=text/html:Fresh produce and much more
LOCATION:
UID:e.1667.179789
SEQUENCE:3
DTSTAMP:20260421T091416Z
URL:http://visitor.capemaycountychamber.com/events/details/downtown-wildwood-farmer-s-market-08-14-2018-179789
END:VEVENT

END:VCALENDAR
