BEGIN:VCALENDAR
VERSION:2.0
PRODID:-//ChamberMaster//Event Calendar 2.0//EN
METHOD:PUBLISH
X-PUBLISHED-TTL:P3D
REFRESH-INTERVAL:P3D
CALSCALE:GREGORIAN
BEGIN:VEVENT
DTSTART:20210811T160000Z
DTEND:20230612T160000Z
X-MICROSOFT-CDO-ALLDAYEVENT:FALSE
SUMMARY:Chamber Capital Building Campaign
DESCRIPTION:Please consider contributing to the Chamber's Capital Building Campaign\n\nWe hope you'll share our enthusiasm for a revitalized Cape May County Chamber headquarters\n\nthat best reflects the vibrant Cape May County economy we know and love. We invite you to\n\njoin fellow members and colleagues and help keep our vision going with a campaign donation. Contributors will be tastefully recognized within the new building.\n\nPlease call us if you would more information\, or a tour of the newly renovated office.
X-ALT-DESC;FMTTYPE=text/html:<span style="font-size:14px\;"><span style="font-size:16px\;"><span style="color:#0000FF\;"><strong>Please consider contributing to the Chamber&#39\;s Capital Building Campaign</strong></span></span></span><br />\n<span style="font-size:14px\;">We hope you&#39\;ll share our enthusiasm for a revitalized Cape May County Chamber headquarters<br />\nthat best reflects the vibrant Cape May County economy we know and love. We invite you to<br />\njoin fellow members and colleagues and help keep our vision going with a campaign donation. Contributors will be tastefully recognized within the new building.<br />\nPlease call us if you would more information\, or a tour of the newly renovated office.</span>
LOCATION:13 Crest Haven Road\, PO Box 74 CMCH\, NJ 08210
UID:e.1667.188852
SEQUENCE:3
DTSTAMP:20260422T030023Z
URL:http://visitor.capemaycountychamber.com/events/details/chamber-capital-building-campaign-188852
END:VEVENT

END:VCALENDAR
