BEGIN:VCALENDAR
VERSION:2.0
PRODID:-//ChamberMaster//Event Calendar 2.0//EN
METHOD:PUBLISH
X-PUBLISHED-TTL:P3D
REFRESH-INTERVAL:P3D
CALSCALE:GREGORIAN
BEGIN:VEVENT
DTSTART:20260701T220000Z
DTEND:20260827T000000Z
X-MICROSOFT-CDO-ALLDAYEVENT:FALSE
SUMMARY:Cape May City Dance Nights
DESCRIPTION:COUNTRY LINE DANCING: July 1 & August 9 KID'S DANCE PARTY: July 8 & August 26 LATIN NIGHT: July 15 & August 12 POPULAR LINE DANCING: July 22 BALLROOM DANCING: August 5
X-ALT-DESC;FMTTYPE=text/html:COUNTRY LINE DANCING: July 1 &amp\; August 9 KID&#39\;S DANCE PARTY: July 8 &amp\; August 26 LATIN NIGHT: July 15 &amp\; August 12 POPULAR LINE DANCING: July 22 BALLROOM DANCING: August 5
LOCATION:Cape May Convention Hall 714 Beach Avenue Cape May NJ 08204
UID:e.1667.192492
SEQUENCE:3
DTSTAMP:20260420T114838Z
URL:http://visitor.capemaycountychamber.com/events/details/cape-may-city-dance-nights-192492
END:VEVENT

END:VCALENDAR
