BEGIN:VCALENDAR
VERSION:2.0
PRODID:-//ChamberMaster//Event Calendar 2.0//EN
METHOD:PUBLISH
X-PUBLISHED-TTL:P3D
REFRESH-INTERVAL:P3D
CALSCALE:GREGORIAN
BEGIN:VEVENT
DTSTART:20260926T140000Z
DTEND:20260926T180000Z
X-MICROSOFT-CDO-ALLDAYEVENT:FALSE
SUMMARY:Annual Thomas F. Brodesser Memorial Car Show
DESCRIPTION:$20 REGISTERED CAR & DRIVER: Event T-shirt\, Swag Bag\, Continental Breakfast\, BBQ Lunch $5 for 1st Extra Meal ticket. Any additional meal ticket at spectator rates. $10 - Adult Spectator includes BBQ Lunch (while supplies last) $5 - Child Spectator under 12 years old includes BBQ Lunch (while supplies last) (benefits local charities)
X-ALT-DESC;FMTTYPE=text/html:$20 REGISTERED CAR &amp\; DRIVER: Event T-shirt\, Swag Bag\, Continental Breakfast\, BBQ Lunch $5 for 1st Extra Meal ticket. Any additional meal ticket at spectator rates. $10 - Adult Spectator includes BBQ Lunch (while supplies last) $5 - Child Spectator under 12 years old includes BBQ Lunch (while supplies last) (benefits local charities)
LOCATION:Beachcomber Camping Resort 462 Seashore Rd Erma\, NJ
UID:e.1667.192457
SEQUENCE:3
DTSTAMP:20260420T144426Z
URL:http://visitor.capemaycountychamber.com/events/details/annual-thomas-f-brodesser-memorial-car-show-192457
END:VEVENT

END:VCALENDAR
