BEGIN:VCALENDAR
VERSION:2.0
PRODID:-//ChamberMaster//Event Calendar 2.0//EN
METHOD:PUBLISH
X-PUBLISHED-TTL:P3D
REFRESH-INTERVAL:P3D
CALSCALE:GREGORIAN
BEGIN:VEVENT
DTSTART:20260610T210000Z
DTEND:20260611T003000Z
X-MICROSOFT-CDO-ALLDAYEVENT:FALSE
SUMMARY:2026 Leadership CMC Graduation Dinner
DESCRIPTION:Graduation Dinner and Ceremony for Leadership Cape May County Class of 2025-26\n\n\n\n\n\nFood choices are as follows:\n\nMezze Display\n\nMixed Greens Salad\n\n\n\n1. Pan Seared Atlantic Salmon\n\n2. Stuffed Chicken Breast\n\n3. Mushroom Ravioli\n\n\n\nCoffee/tea table\n\nChef selected dessert
X-ALT-DESC;FMTTYPE=text/html:<strong>Graduation Dinner and Ceremony for Leadership Cape May County Class of 2025-26</strong><br />\n<br />\n<br />\n<strong>Food choices are as follows:</strong><br />\nMezze Display<br />\nMixed Greens Salad<br />\n<br />\n<strong>1. Pan Seared Atlantic Salmon<br />\n2. Stuffed Chicken Breast<br />\n3. Mushroom Ravioli</strong><br />\n<br />\nCoffee/tea table<br />\nChef selected dessert
LOCATION:The Reeds at Shelter Haven 9601 Third Avenue\, Stone Harbor\, NJ 08247
UID:e.1667.192410
SEQUENCE:3
DTSTAMP:20260421T085010Z
URL:http://visitor.capemaycountychamber.com/events/details/2026-leadership-cmc-graduation-dinner-192410
END:VEVENT

END:VCALENDAR
